BEGIN:VCALENDAR
VERSION:2.0
PRODID:-//dezibella - ECPv6.15.20//NONSGML v1.0//EN
CALSCALE:GREGORIAN
METHOD:PUBLISH
X-WR-CALNAME:dezibella
X-ORIGINAL-URL:https://dezibella.net
X-WR-CALDESC:Veranstaltungen für dezibella
REFRESH-INTERVAL;VALUE=DURATION:PT1H
X-Robots-Tag:noindex
X-PUBLISHED-TTL:PT1H
BEGIN:VTIMEZONE
TZID:Europe/Berlin
BEGIN:DAYLIGHT
TZOFFSETFROM:+0100
TZOFFSETTO:+0200
TZNAME:CEST
DTSTART:20250330T010000
END:DAYLIGHT
BEGIN:STANDARD
TZOFFSETFROM:+0200
TZOFFSETTO:+0100
TZNAME:CET
DTSTART:20251026T010000
END:STANDARD
BEGIN:DAYLIGHT
TZOFFSETFROM:+0100
TZOFFSETTO:+0200
TZNAME:CEST
DTSTART:20260329T010000
END:DAYLIGHT
BEGIN:STANDARD
TZOFFSETFROM:+0200
TZOFFSETTO:+0100
TZNAME:CET
DTSTART:20261025T010000
END:STANDARD
BEGIN:DAYLIGHT
TZOFFSETFROM:+0100
TZOFFSETTO:+0200
TZNAME:CEST
DTSTART:20270328T010000
END:DAYLIGHT
BEGIN:STANDARD
TZOFFSETFROM:+0200
TZOFFSETTO:+0100
TZNAME:CET
DTSTART:20271031T010000
END:STANDARD
END:VTIMEZONE
BEGIN:VEVENT
DTSTART;TZID=Europe/Berlin:20260429T183000
DTEND;TZID=Europe/Berlin:20260429T183000
DTSTAMP:20260424T151537
CREATED:20260125T085716Z
LAST-MODIFIED:20260402T171846Z
UID:1686-1777487400-1777487400@dezibella.net
SUMMARY:Kleines Konzert im Foyer
DESCRIPTION:
URL:https://dezibella.net/event/kleines-konzert-im-foyer/
LOCATION:Schmieder Klinik Konstanz\, Eichhornstr. 68\, Konstanz\, 78464
CATEGORIES:Öffentliche Veranstaltung
END:VEVENT
END:VCALENDAR